BEGIN:VCALENDAR
VERSION:2.0
PRODID:DPCALENDAR
CALSCALE:GREGORIAN
BEGIN:VTIMEZONE
TZID:Africa/Johannesburg
END:VTIMEZONE
X-WR-TIMEZONE:Africa/Johannesburg
BEGIN:VEVENT
DTSTART;TZID=Africa/Johannesburg:20160526T100000
DTEND;TZID=Africa/Johannesburg:20160526T110000
UID:2BCFCB4C-1E08-4A34-BEB2-F50228317A2E
SUMMARY:Premiers Excellence Awards
DTSTAMP:20160519T085441Z
DESCRIPTION:
X-ALT-DESC;FMTTYPE=text/html:
LOCATION:40 Starling Street\, 8309 Kimberley\, Northern Cape\, South Africa
GEO:-28.66865000;24.72104000
LAST-MODIFIED:20160519T085801Z
X-ACCESS:1
X-HITS:7
X-URL:
X-COLOR:3366CC
END:VEVENT
BEGIN:VEVENT
DTSTART;VALUE=DATE:20160616
DTEND;VALUE=DATE:20160617
UID:CB811C55-E6E9-48D2-B1B1-C680B2A92EEA
SUMMARY:June 16 Celebrations
DTSTAMP:20160519T085406Z
DESCRIPTION:
X-ALT-DESC;FMTTYPE=text/html:
LOCATION:15 shaka street\, 8345 Kimberley\, Northern Cape\, South Africa
GEO:-28.71393000;24.72869090
LAST-MODIFIED:20160519T085745Z
X-ACCESS:1
X-HITS:2
X-URL:
X-COLOR:3366CC
END:VEVENT
END:VCALENDAR