BEGIN:VCALENDAR
VERSION:2.0
PRODID:DPCALENDAR
CALSCALE:GREGORIAN
BEGIN:VTIMEZONE
TZID:Africa/Johannesburg
END:VTIMEZONE
X-WR-TIMEZONE:Africa/Johannesburg
BEGIN:VEVENT
DTSTART;VALUE=DATE:20161003
DTEND;VALUE=DATE:20161004
UID:AE6EB5EA-06EE-4AC7-BAFC-F72362646528
SUMMARY:HOD Forum
DTSTAMP:20161004T075554Z
DESCRIPTION:
X-ALT-DESC;FMTTYPE=text/html:
LAST-MODIFIED:20161004T075654Z
X-ACCESS:1
X-HITS:0
X-URL:
X-COLOR:FF0808
END:VEVENT
BEGIN:VEVENT
DTSTART;VALUE=DATE:20161004
DTEND;VALUE=DATE:20161005
UID:D9E48134-337B-458A-A652-46AA61E95E9C
SUMMARY:Christmas Day
DTSTAMP:20161004T104621Z
DESCRIPTION:
X-ALT-DESC;FMTTYPE=text/html:
X-ACCESS:1
X-HITS:0
X-URL:
X-COLOR:F8FF33
END:VEVENT
BEGIN:VEVENT
DTSTART;VALUE=DATE:20161004
DTEND;VALUE=DATE:20161005
UID:D583B488-C5D7-468C-8B87-FDB07D4AC076
SUMMARY:Depts submit 2nd Quarter QPR/submission POA by Depts
DTSTAMP:20161004T081709Z
DESCRIPTION:
X-ALT-DESC;FMTTYPE=text/html:
X-ACCESS:1
X-HITS:1
X-URL:
X-COLOR:878787
END:VEVENT
BEGIN:VEVENT
DTSTART;VALUE=DATE:20161004
DTEND;VALUE=DATE:20161005
UID:AF84C718-9E76-4D13-B47B-5FDD99355824
SUMMARY:Schools Open/TMC Forum
DTSTAMP:20161004T080013Z
DESCRIPTION:
X-ALT-DESC;FMTTYPE=text/html:
X-ACCESS:1
X-HITS:1
X-URL:
X-COLOR:FFB5A6
END:VEVENT
BEGIN:VEVENT
DTSTART;VALUE=DATE:20161004
DTEND;VALUE=DATE:20161005
UID:DD01A6E1-6900-4FC7-9094-24E57CA0E72C
SUMMARY:OTP submit Annual Report to DPME/Depts submit
DTSTAMP:20161004T075800Z
DESCRIPTION:
X-ALT-DESC;FMTTYPE=text/html:
X-ACCESS:1
X-HITS:0
X-URL:
X-COLOR:6B6B6B
END:VEVENT
BEGIN:VEVENT
DTSTART;VALUE=DATE:20161007
DTEND;VALUE=DATE:20161008
UID:5EB83F9A-29A5-42E6-8158-7C6195B9085E
SUMMARY:OTP submit Annual Report to DPME/Depts submit
DTSTAMP:20161004T100124Z
DESCRIPTION:
X-ALT-DESC;FMTTYPE=text/html:
X-ACCESS:1
X-HITS:0
X-URL:
X-COLOR:5E5E5E
END:VEVENT
BEGIN:VEVENT
DTSTART;VALUE=DATE:20161010
DTEND;VALUE=DATE:20161011
UID:51BBE14F-C4D8-449C-9400-933029671F60
SUMMARY:Schools Open/TMC Forum
DTSTAMP:20161004T095840Z
DESCRIPTION:
X-ALT-DESC;FMTTYPE=text/html:
X-ACCESS:1
X-HITS:0
X-URL:
X-COLOR:FFBAA1
END:VEVENT
BEGIN:VEVENT
DTSTART;VALUE=DATE:20161012
DTEND;VALUE=DATE:20161013
UID:5D39A606-1162-4D63-92A9-540FE0865CA2
SUMMARY:OD Working group meeting
DTSTAMP:20161004T081040Z
DESCRIPTION:
X-ALT-DESC;FMTTYPE=text/html:
X-ACCESS:1
X-HITS:0
X-URL:
X-COLOR:44A641
END:VEVENT
BEGIN:VEVENT
DTSTART;VALUE=DATE:20161017
DTEND;VALUE=DATE:20161018
UID:655C947E-FD0C-49A6-BAF2-D0D591F09DA1
SUMMARY:IT Coodination Forum/ Provincial Job Evaluation Panel Sitting
DTSTAMP:20161004T081220Z
DESCRIPTION:
X-ALT-DESC;FMTTYPE=text/html:
X-ACCESS:1
X-HITS:0
X-URL:
X-COLOR:FFC21C
END:VEVENT
BEGIN:VEVENT
DTSTART;VALUE=DATE:20161018
DTEND;VALUE=DATE:20161019
UID:C4CB13CF-28E8-44EA-AC83-9C5027553360
SUMMARY:OTP submit Annual Report to DPME/Depts submit
DTSTAMP:20161004T081816Z
DESCRIPTION:
X-ALT-DESC;FMTTYPE=text/html:
LAST-MODIFIED:20161004T083349Z
X-ACCESS:1
X-HITS:0
X-URL:
X-COLOR:707070
END:VEVENT
BEGIN:VEVENT
DTSTART;VALUE=DATE:20161018
DTEND;VALUE=DATE:20161019
UID:AE8BAB9E-8E7D-44C8-975A-84827BEA1676
SUMMARY:GITOC
DTSTAMP:20161004T081933Z
DESCRIPTION:
X-ALT-DESC;FMTTYPE=text/html:
X-ACCESS:1
X-HITS:0
X-URL:
X-COLOR:FFB03B
END:VEVENT
BEGIN:VEVENT
DTSTART;VALUE=DATE:20161018
DTEND;VALUE=DATE:20161019
UID:F7CD0022-5623-4A66-889A-B16C9EA3D687
SUMMARY:SMT Forum
DTSTAMP:20161004T081451Z
DESCRIPTION:
X-ALT-DESC;FMTTYPE=text/html:
X-ACCESS:1
X-HITS:0
X-URL:
X-COLOR:910D11
END:VEVENT
BEGIN:VEVENT
DTSTART;TZID=Africa/Johannesburg:20161024T080000
DTEND;TZID=Africa/Johannesburg:20161024T110000
UID:54F5AED0-3A69-43FA-926C-30FFCDE86491
SUMMARY:SMT Forum
DTSTAMP:20161004T082048Z
DESCRIPTION:
X-ALT-DESC;FMTTYPE=text/html:
X-ACCESS:1
X-HITS:0
X-URL:
X-COLOR:872935
END:VEVENT
BEGIN:VEVENT
DTSTART;VALUE=DATE:20161025
DTEND;VALUE=DATE:20161026
UID:0DABA815-3284-4839-86CC-A4C402D7FB3F
SUMMARY:Launch of the 16 Days Campaign
DTSTAMP:20161004T102953Z
DESCRIPTION:
X-ALT-DESC;FMTTYPE=text/html:
X-ACCESS:1
X-HITS:0
X-URL:
X-COLOR:30540B
END:VEVENT
BEGIN:VEVENT
DTSTART;VALUE=DATE:20161107
DTEND;VALUE=DATE:20161108
UID:706F93BF-7C2B-4272-BE78-F6841422211B
SUMMARY:HOD Forum
DTSTAMP:20161004T082444Z
DESCRIPTION:
X-ALT-DESC;FMTTYPE=text/html:
X-ACCESS:1
X-HITS:52
X-URL:
X-COLOR:FF5724
END:VEVENT
BEGIN:VEVENT
DTSTART;TZID=Africa/Johannesburg:20161108T120000
DTEND;TZID=Africa/Johannesburg:20161108T130000
UID:83791B79-AAB0-447E-89B6-B8A4D630618C
SUMMARY:IDC Meeting
DTSTAMP:20161004T100500Z
DESCRIPTION:
X-ALT-DESC;FMTTYPE=text/html:
X-ACCESS:1
X-HITS:47
X-URL:
X-COLOR:26146E
END:VEVENT
BEGIN:VEVENT
DTSTART;TZID=Africa/Johannesburg:20161109T120000
DTEND;TZID=Africa/Johannesburg:20161109T130000
UID:BB13F167-D388-4508-8D9D-7C6A1E5F11E1
SUMMARY:IT Security meeting
DTSTAMP:20161004T100939Z
DESCRIPTION:
X-ALT-DESC;FMTTYPE=text/html:
X-ACCESS:1
X-HITS:49
X-URL:
X-COLOR:F7C477
END:VEVENT
BEGIN:VEVENT
DTSTART;TZID=Africa/Johannesburg:20161110T120000
DTEND;TZID=Africa/Johannesburg:20161110T130000
UID:6B7563D9-9DB5-414E-BE2B-8E2685FDAD29
SUMMARY:MPAT Meeting
DTSTAMP:20161004T101225Z
DESCRIPTION:
X-ALT-DESC;FMTTYPE=text/html:
X-ACCESS:1
X-HITS:50
X-URL:
X-COLOR:CCE065
END:VEVENT
BEGIN:VEVENT
DTSTART;TZID=Africa/Johannesburg:20161114T120000
DTEND;TZID=Africa/Johannesburg:20161114T130000
UID:805E9C23-8380-44F5-B4B2-DDBF21BCA147
SUMMARY:TMC Forum
DTSTAMP:20161004T101826Z
DESCRIPTION:
X-ALT-DESC;FMTTYPE=text/html:
X-ACCESS:1
X-HITS:68
X-URL:
X-COLOR:FFB4A1
END:VEVENT
BEGIN:VEVENT
DTSTART;TZID=Africa/Johannesburg:20161117T120000
DTEND;TZID=Africa/Johannesburg:20161117T130000
UID:8207A0B3-6166-423F-B687-E3A4CD27D1E3
SUMMARY:OD Working group meeting
DTSTAMP:20161004T102057Z
DESCRIPTION:
X-ALT-DESC;FMTTYPE=text/html:
X-ACCESS:1
X-HITS:34
X-URL:
X-COLOR:45A14E
END:VEVENT
BEGIN:VEVENT
DTSTART;TZID=Africa/Johannesburg:20161121T080000
DTEND;TZID=Africa/Johannesburg:20161121T110000
UID:25941198-F0F5-4BC9-ACD7-930D3FCFAA26
SUMMARY:SMT Forum
DTSTAMP:20161004T102231Z
DESCRIPTION:
X-ALT-DESC;FMTTYPE=text/html:
X-ACCESS:1
X-HITS:39
X-URL:
X-COLOR:7A151F
END:VEVENT
BEGIN:VEVENT
DTSTART;TZID=Africa/Johannesburg:20161123T080000
DTEND;TZID=Africa/Johannesburg:20161123T090000
UID:BCF5555C-F363-4891-ACEC-A1001033B1D6
SUMMARY:M&E Forum
DTSTAMP:20161004T102511Z
DESCRIPTION:
X-ALT-DESC;FMTTYPE=text/html:
X-ACCESS:1
X-HITS:44
X-URL:
X-COLOR:B3E058
END:VEVENT
BEGIN:VEVENT
DTSTART;VALUE=DATE:20161124
DTEND;VALUE=DATE:20161125
UID:60FDF873-F8C7-4540-AFB4-3E4EC28BEF8D
SUMMARY:Depts submit 2nd draft APP to OTP
DTSTAMP:20161004T102707Z
DESCRIPTION:
X-ALT-DESC;FMTTYPE=text/html:
X-ACCESS:1
X-HITS:47
X-URL:
X-COLOR:8C8C8C
END:VEVENT
BEGIN:VEVENT
DTSTART;TZID=Africa/Johannesburg:20161128T080000
DTEND;TZID=Africa/Johannesburg:20161128T153000
UID:E725D167-E5E3-4622-BFF5-97C83D4FCC22
SUMMARY:Provincial Job Evaluation Panel Sitting
DTSTAMP:20161004T103221Z
DESCRIPTION:
X-ALT-DESC;FMTTYPE=text/html:
X-ACCESS:1
X-HITS:49
X-URL:
X-COLOR:3AC74D
END:VEVENT
BEGIN:VEVENT
DTSTART;VALUE=DATE:20161130
DTEND;VALUE=DATE:20161201
UID:375152B8-9696-4234-A316-FF3C2464253E
SUMMARY:OTP submit 2nd draft 2017/18 APP to DPME
DTSTAMP:20161004T103518Z
DESCRIPTION:
X-ALT-DESC;FMTTYPE=text/html:
X-ACCESS:1
X-HITS:40
X-URL:
X-COLOR:8A8A8A
END:VEVENT
BEGIN:VEVENT
DTSTART;TZID=Africa/Johannesburg:20161205T080000
DTEND;TZID=Africa/Johannesburg:20161205T110000
UID:566B31B6-6B23-4B55-8AA7-79A542223F9D
SUMMARY:SMT Forum
DTSTAMP:20161004T103949Z
DESCRIPTION:
X-ALT-DESC;FMTTYPE=text/html:
X-ACCESS:1
X-HITS:52
X-URL:
X-COLOR:87090E
END:VEVENT
BEGIN:VEVENT
DTSTART;TZID=Africa/Johannesburg:20161205T083000
DTEND;TZID=Africa/Johannesburg:20161205T160000
UID:F3F89F7B-3867-4F1B-A9F3-9F3AB6E989C8
SUMMARY:TMC Forum
DTSTAMP:20161004T103658Z
DESCRIPTION:
X-ALT-DESC;FMTTYPE=text/html:
X-ACCESS:1
X-HITS:49
X-URL:
X-COLOR:FFC4B5
END:VEVENT
BEGIN:VEVENT
DTSTART;TZID=Africa/Johannesburg:20161209T090000
DTEND;TZID=Africa/Johannesburg:20161209T100000
UID:01C9B314-52EB-4180-953E-B6895E59F534
SUMMARY:EMC Meeting
DTSTAMP:20161004T104239Z
DESCRIPTION:
X-ALT-DESC;FMTTYPE=text/html:
X-ACCESS:1
X-HITS:57
X-URL:
X-COLOR:3366CC
END:VEVENT
BEGIN:VEVENT
DTSTART;VALUE=DATE:20161216
DTEND;VALUE=DATE:20161217
UID:AFD57123-83FB-428A-ADD0-C7D6C263D085
SUMMARY:Day of Reconcilation
DTSTAMP:20161004T104508Z
DESCRIPTION:
X-ALT-DESC;FMTTYPE=text/html:
LAST-MODIFIED:20161004T125251Z
X-ACCESS:1
X-HITS:66
X-URL:
X-COLOR:D1B6D6
END:VEVENT
BEGIN:VEVENT
DTSTART;VALUE=DATE:20161225
DTEND;VALUE=DATE:20161226
UID:C532F4FC-2726-450C-B9F2-BDC7A2EF5205
SUMMARY:Christmas Day
DTSTAMP:20161004T131414Z
DESCRIPTION:
X-ALT-DESC;FMTTYPE=text/html:
X-ACCESS:1
X-HITS:82
X-URL:
X-COLOR:D1B6D6
END:VEVENT
BEGIN:VEVENT
DTSTART;VALUE=DATE:20161226
DTEND;VALUE=DATE:20161227
UID:92E8DC76-8E8E-4014-B8B7-D4AE7995B495
SUMMARY:Day of Goodwill
DTSTAMP:20161004T104738Z
DESCRIPTION:
X-ALT-DESC;FMTTYPE=text/html:
LAST-MODIFIED:20161004T124700Z
X-ACCESS:1
X-HITS:65
X-URL:
X-COLOR:D1B6D6
END:VEVENT
BEGIN:VEVENT
DTSTART;VALUE=DATE:20161227
DTEND;VALUE=DATE:20161228
UID:1D3F6B0D-DD2E-469C-A46C-599922C47341
SUMMARY:Public Holiday
DTSTAMP:20161004T104832Z
DESCRIPTION:
X-ALT-DESC;FMTTYPE=text/html:
LAST-MODIFIED:20161004T124549Z
X-ACCESS:1
X-HITS:65
X-URL:
X-COLOR:D1B6D6
END:VEVENT
BEGIN:VEVENT
DTSTART;VALUE=DATE:20170101
DTEND;VALUE=DATE:20170102
UID:514F64D6-4189-4661-8470-817C24B01C31
SUMMARY:New Year's Day
DTSTAMP:20161004T104943Z
DESCRIPTION:
X-ALT-DESC;FMTTYPE=text/html:
LAST-MODIFIED:20161004T133913Z
X-ACCESS:1
X-HITS:66
X-URL:
X-COLOR:D1B6D6
END:VEVENT
END:VCALENDAR