BEGIN:VCALENDAR
VERSION:2.0
PRODID:DPCALENDAR
CALSCALE:GREGORIAN
BEGIN:VTIMEZONE
TZID:Africa/Johannesburg
END:VTIMEZONE
X-WR-TIMEZONE:Africa/Johannesburg
BEGIN:VEVENT
DTSTART;VALUE=DATE:20170209
DTEND;VALUE=DATE:20170210
UID:4CAC9175-E481-4164-BF7B-7C1BEDC44A80
SUMMARY:State of the Nation Address
DTSTAMP:20170209T062551Z
DESCRIPTION:
X-ALT-DESC;FMTTYPE=text/html:
LAST-MODIFIED:20170209T062646Z
X-ACCESS:1
X-HITS:11
X-URL:
X-COLOR:3366CC
END:VEVENT
BEGIN:VEVENT
DTSTART;TZID=Africa/Johannesburg:20170209T090000
DTEND;TZID=Africa/Johannesburg:20170209T140000
UID:D03ABEFD-E5A8-40AC-9FBB-50ED0C44CDA7
SUMMARY:Premier’s Intergovernmental Forum Meeting
DTSTAMP:20170209T094044Z
DESCRIPTION:
X-ALT-DESC;FMTTYPE=text/html:
X-ACCESS:1
X-HITS:1
X-URL:
X-COLOR:3366CC
END:VEVENT
BEGIN:VEVENT
DTSTART;VALUE=DATE:20170214
DTEND;VALUE=DATE:20170215
UID:E546FF3E-578B-44CC-A95E-90F7674AA6E7
SUMMARY:PEC Lekgotla
DTSTAMP:20170209T091728Z
DESCRIPTION:
X-ALT-DESC;FMTTYPE=text/html:
LAST-MODIFIED:20170213T071823Z
X-ACCESS:1
X-HITS:41
X-URL:
X-COLOR:3366CC
END:VEVENT
BEGIN:VEVENT
DTSTART;VALUE=DATE:20170222
DTEND;VALUE=DATE:20170223
UID:4BA66606-21B4-46B7-AD05-55BFBCF240EE
SUMMARY:Budget Day
DTSTAMP:20170209T091912Z
DESCRIPTION:
X-ALT-DESC;FMTTYPE=text/html:
LAST-MODIFIED:20170209T092358Z
X-ACCESS:1
X-HITS:56
X-URL:
X-COLOR:3366CC
END:VEVENT
BEGIN:VEVENT
DTSTART;VALUE=DATE:20170223
DTEND;VALUE=DATE:20170224
UID:571DB3A2-44BA-4655-A50E-5D8FF63E21EF
SUMMARY:State of the Province Address
DTSTAMP:20170209T062249Z
DESCRIPTION:
X-ALT-DESC;FMTTYPE=text/html:
LAST-MODIFIED:20170209T062941Z
X-ACCESS:1
X-HITS:83
X-URL:
X-COLOR:3366CC
END:VEVENT
BEGIN:VEVENT
DTSTART;VALUE=DATE:20170227
DTEND;VALUE=DATE:20170301
UID:A8E604F6-35A8-445C-A45B-CC5A08C973FF
SUMMARY:Debate on the Premier’s State of the Province Address
DTSTAMP:20170209T092248Z
DESCRIPTION:
X-ALT-DESC;FMTTYPE=text/html:
X-ACCESS:1
X-HITS:67
X-URL:
X-COLOR:3366CC
END:VEVENT
BEGIN:VEVENT
DTSTART;TZID=Africa/Johannesburg:20170330T090000
DTEND;TZID=Africa/Johannesburg:20170330T140000
UID:F00A64C3-0788-4EA6-8463-64BF562F0C2A
SUMMARY:Premier’s Intergovernmental Forum Meeting
DTSTAMP:20170209T101910Z
DESCRIPTION:
X-ALT-DESC;FMTTYPE=text/html:
X-ACCESS:1
X-HITS:141
X-URL:
X-COLOR:3366CC
END:VEVENT
BEGIN:VEVENT
DTSTART;TZID=Africa/Johannesburg:20170330T140000
DTEND;TZID=Africa/Johannesburg:20170518T160000
UID:BEC5D52A-2CAB-4A1B-9808-4F053F17DE24
SUMMARY:Provincial AIDS Council Meeting
DTSTAMP:20170209T094315Z
DESCRIPTION:
X-ALT-DESC;FMTTYPE=text/html:
X-ACCESS:1
X-HITS:134
X-URL:
X-COLOR:3366CC
END:VEVENT
END:VCALENDAR