BEGIN:VCALENDAR
VERSION:2.0
PRODID:DPCALENDAR
CALSCALE:GREGORIAN
BEGIN:VTIMEZONE
TZID:Africa/Johannesburg
END:VTIMEZONE
X-WR-TIMEZONE:Africa/Johannesburg
BEGIN:VEVENT
DTSTART;VALUE=DATE:20160924
DTEND;VALUE=DATE:20160925
UID:630D35E5-A9F2-410B-AAA2-E2D5523DA4EF
SUMMARY:National Heritage Day 
DTSTAMP:20160922T080127Z
DESCRIPTION:Heritage Day is a South African public holiday celebrated on 24 September. On this day, South Africans across the spectrum are encouraged to celebrate their culture and the diversity of their beliefs and traditions, in the wider context of a nation that belongs to all its people.\N
X-ALT-DESC;FMTTYPE=text/html:<p><span style="font-weight: bold; color: rgb(106, 106, 106); font-family: arial, sans-serif; font-size: small; background-color: rgb(255, 255, 255);">Heritage Day</span><span style="color: rgb(84, 84, 84); font-family: arial, sans-serif; font-size: small; background-color: rgb(255, 255, 255);">&nbsp;is a South African public holiday celebrated on 24 September. On this&nbsp;</span><span style="font-weight: bold; color: rgb(106, 106, 106); font-family: arial, sans-serif; font-size: small; background-color: rgb(255, 255, 255);">day</span><span style="color: rgb(84, 84, 84); font-family: arial, sans-serif; font-size: small; background-color: rgb(255, 255, 255);">, South Africans across the spectrum are encouraged to celebrate their culture and the diversity of their beliefs and traditions, in the wider context of a nation that belongs to all its people.</span></p>
LOCATION:15 shaka street\, 8345 Kimberley\, Northern Cape\, South Africa
GEO:-28.71393000;24.72869090
LAST-MODIFIED:20160922T080539Z
X-ACCESS:1
X-HITS:3
X-URL:index.php/news-a-events/photo-gallery
X-COLOR:3366CC
END:VEVENT
BEGIN:VEVENT
DTSTART;TZID=Africa/Johannesburg:20170420T080000
DTEND;TZID=Africa/Johannesburg:20170421T163000
UID:482421D9-9D81-43A9-B2E9-9F32C91A70C6
SUMMARY:Northern Cape Government Senior Managers Summit
DTSTAMP:20170411T135827Z
DESCRIPTION:
X-ALT-DESC;FMTTYPE=text/html:
X-ACCESS:1
X-HITS:1
X-URL:http://www.northern-cape.gov.za/smssummitrsvp/rsvpconfirm.aspx 
X-COLOR:3366CC
END:VEVENT
END:VCALENDAR